BEGIN:VCALENDAR
VERSION:2.0
PRODID:-//Ascend Math - ECPv6.15.20//NONSGML v1.0//EN
CALSCALE:GREGORIAN
METHOD:PUBLISH
X-ORIGINAL-URL:https://www.ascendmath.com
X-WR-CALDESC:Events for Ascend Math
REFRESH-INTERVAL;VALUE=DURATION:PT1H
X-Robots-Tag:noindex
X-PUBLISHED-TTL:PT1H
BEGIN:VTIMEZONE
TZID:UTC
BEGIN:STANDARD
TZOFFSETFROM:+0000
TZOFFSETTO:+0000
TZNAME:UTC
DTSTART:20240101T000000
END:STANDARD
END:VTIMEZONE
BEGIN:VEVENT
DTSTART;VALUE=DATE:20250205
DTEND;VALUE=DATE:20250208
DTSTAMP:20260425T110427
CREATED:20250116T173444Z
LAST-MODIFIED:20250116T173444Z
UID:13959-1738713600-1738972799@www.ascendmath.com
SUMMARY:NCTM Spring Conference 2025
DESCRIPTION:Ascend Math will be exhibiting at the NCTM Spring Conference 2025 in Kansas City! Drop by booth #419 to say hello and enter a raffle.
URL:https://www.ascendmath.com/event/nctm-spring-conference-2025/
LOCATION:Kansas City Convention Center\, 301 West 13th Street\, Kansas City\, MO\, 64105
END:VEVENT
END:VCALENDAR