BEGIN:VCALENDAR
VERSION:2.0
PRODID:-//Ascend Math - ECPv6.15.20//NONSGML v1.0//EN
CALSCALE:GREGORIAN
METHOD:PUBLISH
X-WR-CALNAME:Ascend Math
X-ORIGINAL-URL:https://www.ascendmath.com
X-WR-CALDESC:Events for Ascend Math
REFRESH-INTERVAL;VALUE=DURATION:PT1H
X-Robots-Tag:noindex
X-PUBLISHED-TTL:PT1H
BEGIN:VTIMEZONE
TZID:UTC
BEGIN:STANDARD
TZOFFSETFROM:+0000
TZOFFSETTO:+0000
TZNAME:UTC
DTSTART:20240101T000000
END:STANDARD
END:VTIMEZONE
BEGIN:VEVENT
DTSTART;VALUE=DATE:20250212
DTEND;VALUE=DATE:20250215
DTSTAMP:20260425T110316
CREATED:20250124T225532Z
LAST-MODIFIED:20250224T210413Z
UID:13982-1739318400-1739577599@www.ascendmath.com
SUMMARY:2025 ICASE Spring Conference
DESCRIPTION:Join Ascend Math and Close Education at the 2025 ICASE Spring Conference! The conference will be held February 12-14 in Plainfield\, IN. The theme is Boot Scootin’ Best Practices!
URL:https://www.ascendmath.com/event/2025-icase-spring-conference/
LOCATION:Embassy Suites by Hilton Plainfield Indianapolis Airport\, 6089 Clarks Creek Rd\, Plainfield\, 46168\, United States
END:VEVENT
END:VCALENDAR