BEGIN:VCALENDAR
VERSION:2.0
PRODID:-//Ascend Math - ECPv6.15.20//NONSGML v1.0//EN
CALSCALE:GREGORIAN
METHOD:PUBLISH
X-WR-CALNAME:Ascend Math
X-ORIGINAL-URL:https://www.ascendmath.com
X-WR-CALDESC:Events for Ascend Math
REFRESH-INTERVAL;VALUE=DURATION:PT1H
X-Robots-Tag:noindex
X-PUBLISHED-TTL:PT1H
BEGIN:VTIMEZONE
TZID:UTC
BEGIN:STANDARD
TZOFFSETFROM:+0000
TZOFFSETTO:+0000
TZNAME:UTC
DTSTART:20240101T000000
END:STANDARD
END:VTIMEZONE
BEGIN:VEVENT
DTSTART;VALUE=DATE:20250811
DTEND;VALUE=DATE:20250814
DTSTAMP:20260425T165354
CREATED:20250811T144847Z
LAST-MODIFIED:20250811T144847Z
UID:14379-1754870400-1755129599@www.ascendmath.com
SUMMARY:79th CEA International Conference & Training Event
DESCRIPTION:Ascend Math will be attending the 79th CEA International Conference that is being held in Pittsburg\, PA on Aug 11-13\, 2025. See you there!
URL:https://www.ascendmath.com/event/79th-cea-international-conference-training-event/
LOCATION:MS
END:VEVENT
BEGIN:VEVENT
DTSTART;VALUE=DATE:20251004
DTEND;VALUE=DATE:20251005
DTSTAMP:20260425T165354
CREATED:20250922T215833Z
LAST-MODIFIED:20250922T215833Z
UID:14488-1759536000-1759622399@www.ascendmath.com
SUMMARY:2025 ICTM Conference
DESCRIPTION:Join Kayleigh Gray at the 2025 annual ICTM Conference: Teaching and Learning Mathematics with Joy! Hope to see you there!
URL:https://www.ascendmath.com/event/2025-ictm-conference/
LOCATION:Illinois State University\, Normal\, IL\, 61761\, United States
END:VEVENT
BEGIN:VEVENT
DTSTART;VALUE=DATE:20251015
DTEND;VALUE=DATE:20251019
DTSTAMP:20260425T165354
CREATED:20250922T213300Z
LAST-MODIFIED:20250922T213300Z
UID:14480-1760486400-1760831999@www.ascendmath.com
SUMMARY:NCTM Atlanta 2025
DESCRIPTION:Hope to see you at NCTM 2025 October 15-18! Marjorie Briley and our friends at Destination Knowledge will be there at booth 1013. Drop by to say hello!
URL:https://www.ascendmath.com/event/nctm-atlanta-2025/
LOCATION:Georgia World Congress Center (GWCC)\, 285 Andrew Young International Boulevard\, Atlanta\, GA\, 30313\, United States
CATEGORIES:Conferences
END:VEVENT
BEGIN:VEVENT
DTSTART;TZID=UTC:20251021T073000
DTEND;TZID=UTC:20251021T153000
DTSTAMP:20260425T165354
CREATED:20250922T215155Z
LAST-MODIFIED:20250922T215155Z
UID:14485-1761031800-1761060600@www.ascendmath.com
SUMMARY:Iowa Council of Teachers of Mathematics 2025 Conference: Building Connected Relationships with Math
DESCRIPTION:Join Kayleigh Gray at the ICTM 2025 Conference: Building Connected Relationships with Math on October 21\, 2025.
URL:https://www.ascendmath.com/event/iowa-council-of-teachers-of-mathematics-2025-conference-building-connected-relationships-with-math/
LOCATION:FFA Enrichment Center\, 1055 SW Prairie Trial Parkway\, Ankeny\, IA\, 50023\, United States
END:VEVENT
BEGIN:VEVENT
DTSTART;VALUE=DATE:20251106
DTEND;VALUE=DATE:20251108
DTSTAMP:20260425T165354
CREATED:20251027T153654Z
LAST-MODIFIED:20251027T153654Z
UID:14553-1762387200-1762559999@www.ascendmath.com
SUMMARY:LATM 2025
DESCRIPTION:Join us at the LATM-LSTA 2025 Joint Conference on November 6-7\, 2025. This year’s theme is “Igniting Curiosity: The Power of Math & Science Education”. Looking forward to seeing you there!
URL:https://www.ascendmath.com/event/latm-2025/
LOCATION:Rasing Cane’s River Center Baton Rouge\, LA
END:VEVENT
BEGIN:VEVENT
DTSTART;VALUE=DATE:20260217
DTEND;VALUE=DATE:20260218
DTSTAMP:20260425T165354
CREATED:20260217T143053Z
LAST-MODIFIED:20260217T143053Z
UID:14735-1771286400-1771372799@www.ascendmath.com
SUMMARY:Tech Talk 2026
DESCRIPTION:Tech Talk 2026 is on Tuesday\, February 17th!\n\n\n \n\n\nTech Talk is a comprehensive\, virtual professional development conference spearheaded by CPS educators\, Tech Coordinators\, Google experts\, SOPPA-approved vendors\, and CPS thought leaders. This day-long event is designed to enhance your skills and provide valuable insights into the tech tools necessary for organization and student engagement. Ascend Math will be presenting on Universal Design for Learning in the math classroom with a just-in-time approach. Register below!\n\n\n \n\n\nRegister: https://tinyurl.com/techtalk26
URL:https://www.ascendmath.com/event/tech-talk-2026/
LOCATION:MS
END:VEVENT
BEGIN:VEVENT
DTSTART;VALUE=DATE:20260218
DTEND;VALUE=DATE:20260222
DTSTAMP:20260425T165354
CREATED:20251027T154027Z
LAST-MODIFIED:20251027T154519Z
UID:14555-1771372800-1771718399@www.ascendmath.com
SUMMARY:Missouri Interface STEM Conference 2026
DESCRIPTION:Visit with Nancy Paulus at the Missouri Interface STEM Conference 2026 on February 18-21\, 2026.
URL:https://www.ascendmath.com/event/missouri-interface-stem-conference-2026/
LOCATION:Tan-Tar-A Conference Center\, 494 Tan Tar A Dr\, Osage Beach\, MO\, 65065\, United States
END:VEVENT
BEGIN:VEVENT
DTSTART;VALUE=DATE:20260503
DTEND;VALUE=DATE:20260506
DTSTAMP:20260425T165354
CREATED:20260423T203732Z
LAST-MODIFIED:20260423T203732Z
UID:15421-1777766400-1778025599@www.ascendmath.com
SUMMARY:CEA in Baltimore\, MD
DESCRIPTION:Join Ascend Math for CEA conference from 5/3/2026 till 5/5/2026 in Baltimore\, MD.
URL:https://www.ascendmath.com/event/cea-in-baltimore-md/
LOCATION:Hyatt Regency Baltimore\, 300 Light St.\, Baltimore\, MD\, 21202\, United States
END:VEVENT
BEGIN:VEVENT
DTSTART;VALUE=DATE:20260506
DTEND;VALUE=DATE:20260508
DTSTAMP:20260425T165354
CREATED:20260223T182755Z
LAST-MODIFIED:20260223T182755Z
UID:14799-1778025600-1778198399@www.ascendmath.com
SUMMARY:2026 Wisconsin Mathematics Council Annual Conference
DESCRIPTION:Join Kayleigh Gray at the 2026 Wisconsin Mathematics Council Annual Conference! Kayleigh will be holding a session on Best Practices in Universal Design for Learning in the Mathematics Classroom.. Hope to see you there!
URL:https://www.ascendmath.com/event/2026-wisconsin-mathematics-council-annual-conference/
LOCATION:Green Lake Conference Center\, W2511 WI-23\, Green Lake\, WI\, 54941\, United States
END:VEVENT
BEGIN:VEVENT
DTSTART;VALUE=DATE:20260609
DTEND;VALUE=DATE:20260613
DTSTAMP:20260425T165354
CREATED:20260424T204610Z
LAST-MODIFIED:20260424T205610Z
UID:15433-1780963200-1781308799@www.ascendmath.com
SUMMARY:The 2026 MASSP / MAESA / MSASPA Summer Conference
DESCRIPTION:We would love to have you as part of our professional community year-round! Join Ascend Math for MASSP’s Summer Conference\, June 9-12\, 2026 in Biloxi\, MS.
URL:https://www.ascendmath.com/event/the-2026-massp-maesa-msaspa-summer-conference/
LOCATION:Golden Nugget Hotel and Casino\, 151 Beach Blvd\, Biloxi\, MS\, 39530\, United States
ORGANIZER;CN="MASSP":MAILTO:ben@massp.net
END:VEVENT
BEGIN:VEVENT
DTSTART;VALUE=DATE:20260623
DTEND;VALUE=DATE:20260627
DTSTAMP:20260425T165355
CREATED:20260424T222033Z
LAST-MODIFIED:20260424T222033Z
UID:15441-1782172800-1782518399@www.ascendmath.com
SUMMARY:2026 MAFEPD CONFERENCE
DESCRIPTION:Join Ascend Math for 2026 MAFEPD CONFERENCE from June 23rd till June 26th\, 2026 in Flowood\, MS. \nOpportunities for All: Rewind\, Rethink\, & Reimagine
URL:https://www.ascendmath.com/event/2026-mafepd-conference/
LOCATION:Sheraton Flowood The Refuge Hotel and Conference Center\, 2200 Refuge Blvd\, Flowood\, MS\, 39232\, United States
ORGANIZER;CN="MAFEPD":MAILTO:chenderson@covingtoncountyschools.org
END:VEVENT
BEGIN:VEVENT
DTSTART;VALUE=DATE:20261028
DTEND;VALUE=DATE:20261101
DTSTAMP:20260425T165355
CREATED:20260423T223743Z
LAST-MODIFIED:20260423T223743Z
UID:15428-1793145600-1793491199@www.ascendmath.com
SUMMARY:2026 NCTM Annual Meeting and Exposition
DESCRIPTION:  \n\nJoin Ascend Math for NCTM’s National Conference from October 28–31 in Denver\, CO. \n\nMathematics for a Changing World: Belonging\, Learning\, and Leading is a defining gathering for mathematics educators—where the future of teaching and learning is being written while making an impact in classrooms today. Classroom teachers\, school leaders\, and innovators will come together to share practices that elevate student voice\, harness the power of technology with care\, and strengthen teaching for every learner. Just as importantly\, the conference is committed to supporting the joy\, purpose\, and well-being of teachers\, ensuring they are sustained as they do this vital work. Join us in shaping the conversations that are redefining mathematics now and into the future.
URL:https://www.ascendmath.com/event/2026-nctm-annual-meeting-and-exposition/
LOCATION:Colorado Convention Center\, 700 14th Street\, Denver\, CO\, 80202\, United States
END:VEVENT
END:VCALENDAR