BEGIN:VCALENDAR
VERSION:2.0
PRODID:-//Ascend Math - ECPv6.15.20//NONSGML v1.0//EN
CALSCALE:GREGORIAN
METHOD:PUBLISH
X-WR-CALNAME:Ascend Math
X-ORIGINAL-URL:https://www.ascendmath.com
X-WR-CALDESC:Events for Ascend Math
REFRESH-INTERVAL;VALUE=DURATION:PT1H
X-Robots-Tag:noindex
X-PUBLISHED-TTL:PT1H
BEGIN:VTIMEZONE
TZID:UTC
BEGIN:STANDARD
TZOFFSETFROM:+0000
TZOFFSETTO:+0000
TZNAME:UTC
DTSTART:20230101T000000
END:STANDARD
END:VTIMEZONE
BEGIN:VEVENT
DTSTART;VALUE=DATE:20240917
DTEND;VALUE=DATE:20240920
DTSTAMP:20260425T165139
CREATED:20240916T160527Z
LAST-MODIFIED:20240916T160647Z
UID:13778-1726531200-1726790399@www.ascendmath.com
SUMMARY:LSSA 2024 Conference
DESCRIPTION:Join Barbara McGuffee of Educational Materials Specialists at the LSSA 2024 Conference September 17-19.
URL:https://www.ascendmath.com/event/lssa-2024/
LOCATION:Golden Nugget Lake Charles\, 2550 Golden Nugget Blvd\, Lake Charla\, LA\, 70601
END:VEVENT
BEGIN:VEVENT
DTSTART;VALUE=DATE:20240925
DTEND;VALUE=DATE:20240929
DTSTAMP:20260425T165139
CREATED:20240611T230841Z
LAST-MODIFIED:20240611T230841Z
UID:13590-1727222400-1727567999@www.ascendmath.com
SUMMARY:NCTM 2024 Annual Meeting & Exposition
DESCRIPTION:Join Ascend Math for the NCTM Annual Meeting & Exposition in Chicago September 25-28: The Math of Their Dreams: Illuminating Students’ Brilliance
URL:https://www.ascendmath.com/event/nctm-2024-annual-meeting-exposition/
LOCATION:Hyatt Regency McCormick Place\, 2233 S MLK Drive\, Chicago\, IL\, 60616\, United States
END:VEVENT
BEGIN:VEVENT
DTSTART;VALUE=DATE:20240927
DTEND;VALUE=DATE:20241002
DTSTAMP:20260425T165139
CREATED:20240613T171833Z
LAST-MODIFIED:20240613T171833Z
UID:13597-1727395200-1727827199@www.ascendmath.com
SUMMARY:MCTM - INTERFACE 2024
DESCRIPTION:Join Ascend Math affiliate\, Nancy Paulus of Educational Products Group\, for the 2024 Missouri DESE Interface Professional Learning Event in Osage Beach\, Missouri. The event will be September 27-29\, 2024 for grades K-6 and September 29 through October 1st for grades 7-12.
URL:https://www.ascendmath.com/event/mctm-interface-2024/
LOCATION:Tan-Tar-A Conference Center\, 494 Tan Tar A Dr\, Osage Beach\, MO\, 65065\, United States
END:VEVENT
END:VCALENDAR