BEGIN:VCALENDAR
VERSION:2.0
PRODID:-//Ascend Math - ECPv6.15.20//NONSGML v1.0//EN
CALSCALE:GREGORIAN
METHOD:PUBLISH
X-ORIGINAL-URL:https://www.ascendmath.com
X-WR-CALDESC:Events for Ascend Math
REFRESH-INTERVAL;VALUE=DURATION:PT1H
X-Robots-Tag:noindex
X-PUBLISHED-TTL:PT1H
BEGIN:VTIMEZONE
TZID:UTC
BEGIN:STANDARD
TZOFFSETFROM:+0000
TZOFFSETTO:+0000
TZNAME:UTC
DTSTART:20230101T000000
END:STANDARD
END:VTIMEZONE
BEGIN:VEVENT
DTSTART;VALUE=DATE:20241206
DTEND;VALUE=DATE:20241208
DTSTAMP:20260425T123534
CREATED:20240906T203517Z
LAST-MODIFIED:20240916T162900Z
UID:13771-1733443200-1733615999@www.ascendmath.com
SUMMARY:MOCTM Fall Conference
DESCRIPTION:Join Nancy Paulus and Ascend Math for the MCTM Fall Conference on Dec 6-7\, 2024. The theme for the conference this year is “Implementing Equitable Mathematics Instruction”. The event will be held at the Holiday Inn Executive Center in Columbia\, MO.
URL:https://www.ascendmath.com/event/moctm-fall-conference/
LOCATION:Hoilday Inn Executive Center\, 2200 Interstate 70 Dr SW\, Columbia\, MO\, 65203\, United States
END:VEVENT
END:VCALENDAR